BEGIN:VCALENDAR
VERSION:2.0
PRODID:-//Traders Village Staging - ECPv6.15.20//NONSGML v1.0//EN
CALSCALE:GREGORIAN
METHOD:PUBLISH
X-WR-CALNAME:Traders Village Staging
X-ORIGINAL-URL:https://staging.tradersvillage.com
X-WR-CALDESC:Events for Traders Village Staging
REFRESH-INTERVAL;VALUE=DURATION:PT1H
X-Robots-Tag:noindex
X-PUBLISHED-TTL:PT1H
BEGIN:VTIMEZONE
TZID:America/Chicago
BEGIN:DAYLIGHT
TZOFFSETFROM:-0600
TZOFFSETTO:-0500
TZNAME:CDT
DTSTART:20240310T080000
END:DAYLIGHT
BEGIN:STANDARD
TZOFFSETFROM:-0500
TZOFFSETTO:-0600
TZNAME:CST
DTSTART:20241103T070000
END:STANDARD
BEGIN:DAYLIGHT
TZOFFSETFROM:-0600
TZOFFSETTO:-0500
TZNAME:CDT
DTSTART:20250309T080000
END:DAYLIGHT
BEGIN:STANDARD
TZOFFSETFROM:-0500
TZOFFSETTO:-0600
TZNAME:CST
DTSTART:20251102T070000
END:STANDARD
BEGIN:DAYLIGHT
TZOFFSETFROM:-0600
TZOFFSETTO:-0500
TZNAME:CDT
DTSTART:20260308T080000
END:DAYLIGHT
BEGIN:STANDARD
TZOFFSETFROM:-0500
TZOFFSETTO:-0600
TZNAME:CST
DTSTART:20261101T070000
END:STANDARD
END:VTIMEZONE
BEGIN:VEVENT
DTSTART;VALUE=DATE:20250405
DTEND;VALUE=DATE:20250407
DTSTAMP:20260420T061138
CREATED:20250303T163125Z
LAST-MODIFIED:20250303T164439Z
UID:3809-1743811200-1743983999@staging.tradersvillage.com
SUMMARY:Bayou City Cajun Fest APRIL 5th-6th
DESCRIPTION:Returning for another weekend with a pinch of Zydeco\, a bit of swamp pop and a whole lot of Cajun music\, and you’ve got the ingredients for…The Traders Village Houston Cajun Fest. Get ready to party hearty\, creole-style\, as the Annual Cajun Festival cooks up big fun in another great weekend of fun and delicious Cajun food. The event will be held under the Gray Expo.\nEnjoy free toe-tapping Cajun music each day starting at 12 noon. This year our featured bands will make you jump out of your seat and you won’t be able to stop your feet from dancing to the crazy Cajun beat.\n3 bands per day!\nLINEUP:\n\n\n\n\n\n\n\n\n\nLT & the Zydeco Mob\n\n\n\n\n\n\n\n\n\n\n\n\n\n\n\n\n\nBoomtown Brass Band\n\n\n\n\n\n\n\n\n\n\n\n\n\n\n\n\n\nZydeco Dots\n\n\n\n\n\n\n\n\n\n\n\n\n\n\n\n\n\nPlatinum Players Zydeco Band\n\n\n\n\n\n\n\n\n\n\n\n\n\n\n\n\n\n\n\nBayou Roux\n\n\n\n\n\n\n\n\n\n\n\n\n\n\n\n\n\nBourbon Street\n\n\n\n\n\n\n\n\n\n\n\nIt’s an event that can’t be missed. Live music\, dancing\, Cajun foods\, and bodacious bargains!\nAdmission to Traders Village Houston is FREE and it’s just $6.00 to park.\nSHOPPING\, RIDES\, FESTIVALS\, FOOD!
URL:https://staging.tradersvillage.com/category/events/bayou-city-cajun-fest-april-5th-6th/
LOCATION:Gray Expo\, 7979 N. Eldridge Parkway\, Houston\, TX\, 77041
CATEGORIES:Houston
ATTACH;FMTTYPE=image/png:https://staging.tradersvillage.com/wp-content/uploads/2025/03/CAJUN-FEST-BANNER-copy.png
END:VEVENT
BEGIN:VEVENT
DTSTART;TZID=America/Chicago:20250406T110000
DTEND;TZID=America/Chicago:20250406T170000
DTSTAMP:20260420T061138
CREATED:20241212T200106Z
LAST-MODIFIED:20250115T094233Z
UID:3665-1743937200-1743958800@staging.tradersvillage.com
SUMMARY:Quinceañera Expo 2025
DESCRIPTION:Traders Village will be back with our FREE Quinceañera Expo Sunday\, April 6th from 11AM to 5PM. This is an event dedicated to that very special date! \nAt our “XV Expo Show” you will find lots of different vendors for your Quince celebration; reception halls\, photographers\, videographers\, dresses\, choreographers\, DJ’s\, caterers\, photo booths\, designers and much more for the perfect Quinceañera. \nTraders Village is located off Highway 360 in Grand Prairie. No admission and only $6 to park.
URL:https://staging.tradersvillage.com/category/events/quinceanera-expo-2025/
LOCATION:TX
CATEGORIES:Grand Prairie
ATTACH;FMTTYPE=image/jpeg:https://staging.tradersvillage.com/wp-content/uploads/2024/12/TVGP_WB_12_24_XV-expo_440x200.jpg
END:VEVENT
BEGIN:VEVENT
DTSTART;TZID=America/Chicago:20250406T120000
DTEND;TZID=America/Chicago:20250406T163000
DTSTAMP:20260420T061138
CREATED:20250324T154714Z
LAST-MODIFIED:20250324T154714Z
UID:3868-1743940800-1743957000@staging.tradersvillage.com
SUMMARY:Happy Hour at the Hall
DESCRIPTION:🎉 Sunday Funday Happy Hour at Trader’s Hall! 🎶 \nJoin us at Trader’s Hall in Trader’s Village San Antonio every Sunday for the ultimate Happy Hour experience! From 12 PM to 1 PM\, enjoy discounted beer and Micheladas to kick off your afternoon right. \nBut the fun doesn’t stop there! Stick around for live music from 12 PM to 4:30 PM\, featuring amazing local artists to keep the good vibes going all afternoon. Whether you’re here to relax\, dance\, or enjoy great drinks with friends\, Sunday at Trader’s Village is the place to be! \n🗓 When: Every Sunday\n⏰ Happy Hour: 12 PM – 1 PM\n🎵 Live Music: 12 PM – 4:30 PM\n📍 Where: Trader’s Hall at Trader’s Village San Antonio \nBring your friends and family and make it a Sunday to remember! 🍺🎤☀️
URL:https://staging.tradersvillage.com/category/events/happy-hour-at-the-hall-2/
LOCATION:TX
CATEGORIES:San Antonio
ATTACH;FMTTYPE=image/png:https://staging.tradersvillage.com/wp-content/uploads/2025/03/Happy-Hour-at-the-Hall-1920-x-800-px-3.png
END:VEVENT
BEGIN:VEVENT
DTSTART;VALUE=DATE:20250412
DTEND;VALUE=DATE:20250414
DTSTAMP:20260420T061138
CREATED:20250308T192745Z
LAST-MODIFIED:20250308T192745Z
UID:3816-1744416000-1744588799@staging.tradersvillage.com
SUMMARY:COMICON APRIL 12 & 13\, 2025
DESCRIPTION:🌟 Get ready for an EPIC weekend of geekdom at Traders Village Houston’s COMICON! 🌟 \n📅 Save the Date: April 12-13\, 10 AM – 5 PM 📅 \n🚀 Unleash your inner superhero and join us under the iconic Gray Expo for a mind-blowing adventure! 🚀 \n🔥 Here’s a sneak peek at what awaits you: \n🐢 Cowabunga Factory & TMNT Appearances! \n\nGet up close and personal with your favorite Teenage Mutant Ninja Turtles! 🐢🍕\n\n🎤 Meet the MastersTalent: \n\nChristina Kelly\nAdam Gibbs\nTaylor Hannah\nJessica Strauss\nMolly Searcy\n\nAmazing on stage performances by:  Cristalized Dance\, Ghostdata\, Alan Z. \n🚗 Time-Traveling: Snap a picture with the iconic Jurassic Park theme cars\, and other jaw-dropping displays that will transport you to different dimensions! 🚗✨ \n🎉 PLUS: \, Collectibles\, Comics and SO much more! 🎉 \n🔥 Don’t miss this once-in-a-lifetime experience at Traders Village Houston’s Comicon! 🔥 \n🎟️ Admission is FREE\, and the excitement is priceless! 🎟️ \n📍 Location: Traders Village Houston\, Gray Expo  Date: April 12-13 ⏰ Time: 10 AM – 5 PM (Both Days) \n📣 Spread the word\, tag your fellow geeks\, and let’s make this Comicon the talk of the town! 🚀🤩 #TVHComicon #GeekOutAtTVH #ComiconHouston \n\n\n\n\n\n 
URL:https://staging.tradersvillage.com/category/events/comicon-april-12-13-2025/
LOCATION:Gray Expo\, 7979 N. Eldridge Parkway\, Houston\, TX\, 77041
CATEGORIES:Houston
ATTACH;FMTTYPE=image/png:https://staging.tradersvillage.com/wp-content/uploads/2025/03/Event-flyer-edited.png
END:VEVENT
BEGIN:VEVENT
DTSTART;TZID=America/Chicago:20250412T100000
DTEND;TZID=America/Chicago:20250412T140000
DTSTAMP:20260420T061138
CREATED:20250120T205617Z
LAST-MODIFIED:20250321T181342Z
UID:3725-1744452000-1744466400@staging.tradersvillage.com
SUMMARY:Easter Eggstravaganza
DESCRIPTION:Join Traders Village for our 19th annual Easter Eggstravaganza on Saturday\, April 12\, 2025! Gates open at 10 am\nBring your Easter basket as there will be lots of FREE Easter eggs filled with goodies\n\n\nThousands of Eggs\n\n\nLots of door prizes for kids of all ages\n\n\nPictures with the Easter Bunny\n\n\nSuperheroes and Princess appearances\n\n\nPLUS MUCH MORE!\n\n\nChildren will line up for Easter eggs based on their age\nSchedule:\nAges 0-3 10:30 am\nAges 4-6 11:15 am\nAges 7-9 12:00 pm\nAges 10-12 12:45 pm\nThey will also have lots of vendors handing out goodies for the kids!!\nAdmission is FREE | Parking $6
URL:https://staging.tradersvillage.com/category/events/easter-eggstravaganza-2/
LOCATION:TX
CATEGORIES:San Antonio
ATTACH;FMTTYPE=image/png:https://staging.tradersvillage.com/wp-content/uploads/2025/01/Easter-Graphic-Traders-Hero.png
END:VEVENT
BEGIN:VEVENT
DTSTART;TZID=America/Chicago:20250413T110000
DTEND;TZID=America/Chicago:20250413T170000
DTSTAMP:20260420T061138
CREATED:20250224T202642Z
LAST-MODIFIED:20250504T161135Z
UID:3799-1744542000-1744563600@staging.tradersvillage.com
SUMMARY:Coffee\, Cigars\, Camaraderie Countrywide Tour presented by PublicSq.
DESCRIPTION:BAD Outdoors Countrywide Tour – San Antonio\, TX Stop\n📅 Date: April 13\, 2025🕚 Time: 11:00 AM📍 Location: Traders Village San Antonio\, 9333 SW Loop 410\, San Antonio\, TX \nJoin BAD Outdoors on our Countrywide Tour\, presented by PublicSquare\, as we make a stop in San Antonio\, TX! This patriotic event is dedicated to honoring and uplifting veterans while fostering strong community connections. \n🔹 Veteran Engagement – Veterans can sign up for exciting outdoor adventures and gain access to valuable resources.🔹 Community Connection – Meet local businesses and nonprofits dedicated to veteran support.🔹 Networking Opportunities – Connect with like-minded individuals and organizations making a difference.🔹 Nonprofit Engagement – Learn how nonprofits assist veterans and discover ways to contribute. \nThis is a unique opportunity to celebrate and support our veterans while engaging with businesses and organizations committed to their well-being. \n✨ Be part of the movement and make a lasting impact in the veteran community! \n📞 Contact Us:🌐 Website: www.badoutdoors.com📧 Email: account@badoutdoors.com📍 Address: 257 N. Calderwood St #338\, Alcoa\, TN 37701📞 Phone: 865-895-4696 \nDon’t miss out! Join us for this incredible event in San Antonio! 🇺🇸
URL:https://staging.tradersvillage.com/category/events/coffee-cigars-camaraderie-countrywide-tour-presented-by-publicsq/
LOCATION:TX
CATEGORIES:San Antonio
ATTACH;FMTTYPE=image/png:https://staging.tradersvillage.com/wp-content/uploads/2025/02/Screenshot-2025-02-24-at-1.05.26 PM.png
END:VEVENT
BEGIN:VEVENT
DTSTART;TZID=America/Chicago:20250413T120000
DTEND;TZID=America/Chicago:20250413T130000
DTSTAMP:20260420T061138
CREATED:20250330T191208Z
LAST-MODIFIED:20250330T191537Z
UID:3861-1744545600-1744549200@staging.tradersvillage.com
SUMMARY:Happy Hour at the Hall
DESCRIPTION:🎉 Sunday Funday Happy Hour at Trader’s Hall! 🎶 \nJoin us at Trader’s Hall in Trader’s Village San Antonio every Sunday for the ultimate Happy Hour experience! From 12 PM to 1 PM\, enjoy discounted beer and Micheladas to kick off your afternoon right. \nBut the fun doesn’t stop there! Stick around for live music from 12 PM to 4:30 PM\, featuring amazing local artists to keep the good vibes going all afternoon. Whether you’re here to relax\, dance\, or enjoy great drinks with friends\, Sunday at Trader’s Village is the place to be! \n🗓 When: Every Sunday\n⏰ Happy Hour: 12 PM – 1 PM\n🎵 Live Music: 12 PM – 4:30 PM\n📍 Where: Trader’s Hall at Trader’s Village San Antonio \nBring your friends and family and make it a Sunday to remember! 🍺🎤☀️
URL:https://staging.tradersvillage.com/category/events/happy-hour-at-the-hall-3/
LOCATION:TX
CATEGORIES:San Antonio
ATTACH;FMTTYPE=image/png:https://staging.tradersvillage.com/wp-content/uploads/2025/03/Happy-Hour-at-the-Hall-1920-x-800-px-4.png
END:VEVENT
BEGIN:VEVENT
DTSTART;TZID=America/Chicago:20250420T120000
DTEND;TZID=America/Chicago:20250420T130000
DTSTAMP:20260420T061138
CREATED:20250330T191836Z
LAST-MODIFIED:20250330T191836Z
UID:3885-1745150400-1745154000@staging.tradersvillage.com
SUMMARY:Happy Hour at the Hall
DESCRIPTION:🎉 Sunday Funday Happy Hour at Trader’s Hall! 🎶 \nJoin us at Trader’s Hall in Trader’s Village San Antonio every Sunday for the ultimate Happy Hour experience! From 12 PM to 1 PM\, enjoy discounted beer and Micheladas to kick off your afternoon right. \nBut the fun doesn’t stop there! Stick around for live music from 12 PM to 4:30 PM\, featuring amazing local artists to keep the good vibes going all afternoon. Whether you’re here to relax\, dance\, or enjoy great drinks with friends\, Sunday at Trader’s Village is the place to be! \n🗓 When: Every Sunday\n⏰ Happy Hour: 12 PM – 1 PM\n🎵 Live Music: 12 PM – 4:30 PM\n📍 Where: Trader’s Hall at Trader’s Village San Antonio \nBring your friends and family and make it a Sunday to remember! 🍺🎤☀️
URL:https://staging.tradersvillage.com/category/events/happy-hour-at-the-hall-4/
LOCATION:TX
CATEGORIES:San Antonio
ATTACH;FMTTYPE=image/png:https://staging.tradersvillage.com/wp-content/uploads/2025/03/Happy-Hour-at-the-Hall-1920-x-800-px-5.png
END:VEVENT
BEGIN:VEVENT
DTSTART;TZID=America/Chicago:20250426T100000
DTEND;TZID=America/Chicago:20250427T170000
DTSTAMP:20260420T061138
CREATED:20241111T191348Z
LAST-MODIFIED:20241210T122130Z
UID:3567-1745661600-1745773200@staging.tradersvillage.com
SUMMARY:28th TX Alamo Aloha Fiestaval
DESCRIPTION:If you’ve been dreaming of a tropical getaway\, you’re in luck. Look no further than Aloha Fiestaval at Traders Village in San Antonio. \nThis unique and beautiful event brings the spirit of Hawaii to Texas with authentic Hawaiian acts\, vendors\, and food. It’s the perfect opportunity to experience the culture and traditions of the islands without leaving the mainland! \nThe festival features acts and vendors that fly in from Hawaii\, as well as local talents and artisans that bring the sights\, sounds\, and flavors of the islands to San Antonio. From traditional hula dancers to Polynesian craft vendors\, there’s something for everyone at Aloha Fest. \nBut let’s not forget about the food! With many food vendors featuring Hawaiian and Polynesian foods\, you’ll have plenty of opportunities to indulge in the flavors of the islands. \nFree Admission | $6 Parking
URL:https://staging.tradersvillage.com/category/events/28th-tx-alamo-aloha-fiestaval/
LOCATION:Traders Village San Antonio\, 9333 Southwest Loop 410\, San Antonio\, 78242\, United States
CATEGORIES:San Antonio
ATTACH;FMTTYPE=image/png:https://staging.tradersvillage.com/wp-content/uploads/2024/11/Aloha-Fest-KSAT-440-x-200-px-2.png
END:VEVENT
BEGIN:VEVENT
DTSTART;TZID=America/Chicago:20250427T120000
DTEND;TZID=America/Chicago:20250427T170000
DTSTAMP:20260420T061138
CREATED:20250418T164651Z
LAST-MODIFIED:20250418T164651Z
UID:3908-1745755200-1745773200@staging.tradersvillage.com
SUMMARY:Rumba En El Rojo con Tito Puente Jr.
DESCRIPTION:Put you dancing shoes on and come celebrate with us at Traders Village with our Rumba En El Dojo with Mambo legend Tito Puente Jr. and Cuban singer Idania Y Su Candela Latin Allstars. \nCome early and shop from thousands of vendors in the open-air market. And don’t forget to buy your all day wristbands for only $14.99. \nRumba En El Rojo is a free family event. Traders Village is located off Highway 360 in Grand Prairie.
URL:https://staging.tradersvillage.com/category/events/rumba-en-el-rojo-con-tito-puente-jr/
LOCATION:TX
CATEGORIES:Grand Prairie
ATTACH;FMTTYPE=image/png:https://staging.tradersvillage.com/wp-content/uploads/2025/04/Rumba-En-EL-Rojo-Facebook-Ad.png
END:VEVENT
END:VCALENDAR