BEGIN:VCALENDAR
VERSION:2.0
PRODID:-//Traders Village Staging - ECPv6.15.20//NONSGML v1.0//EN
CALSCALE:GREGORIAN
METHOD:PUBLISH
X-WR-CALNAME:Traders Village Staging
X-ORIGINAL-URL:https://staging.tradersvillage.com
X-WR-CALDESC:Events for Traders Village Staging
REFRESH-INTERVAL;VALUE=DURATION:PT1H
X-Robots-Tag:noindex
X-PUBLISHED-TTL:PT1H
BEGIN:VTIMEZONE
TZID:America/Chicago
BEGIN:DAYLIGHT
TZOFFSETFROM:-0600
TZOFFSETTO:-0500
TZNAME:CDT
DTSTART:20240310T080000
END:DAYLIGHT
BEGIN:STANDARD
TZOFFSETFROM:-0500
TZOFFSETTO:-0600
TZNAME:CST
DTSTART:20241103T070000
END:STANDARD
BEGIN:DAYLIGHT
TZOFFSETFROM:-0600
TZOFFSETTO:-0500
TZNAME:CDT
DTSTART:20250309T080000
END:DAYLIGHT
BEGIN:STANDARD
TZOFFSETFROM:-0500
TZOFFSETTO:-0600
TZNAME:CST
DTSTART:20251102T070000
END:STANDARD
BEGIN:DAYLIGHT
TZOFFSETFROM:-0600
TZOFFSETTO:-0500
TZNAME:CDT
DTSTART:20260308T080000
END:DAYLIGHT
BEGIN:STANDARD
TZOFFSETFROM:-0500
TZOFFSETTO:-0600
TZNAME:CST
DTSTART:20261101T070000
END:STANDARD
BEGIN:DAYLIGHT
TZOFFSETFROM:-0600
TZOFFSETTO:-0500
TZNAME:CDT
DTSTART:20270314T080000
END:DAYLIGHT
BEGIN:STANDARD
TZOFFSETFROM:-0500
TZOFFSETTO:-0600
TZNAME:CST
DTSTART:20271107T070000
END:STANDARD
BEGIN:DAYLIGHT
TZOFFSETFROM:-0600
TZOFFSETTO:-0500
TZNAME:CDT
DTSTART:20280312T080000
END:DAYLIGHT
BEGIN:STANDARD
TZOFFSETFROM:-0500
TZOFFSETTO:-0600
TZNAME:CST
DTSTART:20281105T070000
END:STANDARD
END:VTIMEZONE
BEGIN:VEVENT
DTSTART;TZID=America/Chicago:20250731T080000
DTEND;TZID=America/Chicago:20270104T170000
DTSTAMP:20260419T193559
CREATED:20250801T000603Z
LAST-MODIFIED:20260117T202756Z
UID:4224-1753948800-1799082000@staging.tradersvillage.com
SUMMARY:Slider: TVSA Happy Hour at the Hall
DESCRIPTION:
URL:https://staging.tradersvillage.com/category/events/slider-tvsa-happy-hour-at-the-hall/
LOCATION:Traders Village San Antonio\, 9333 Southwest Loop 410\, San Antonio\, 78242\, United States
CATEGORIES:TVSA Slider
ATTACH;FMTTYPE=image/png:https://staging.tradersvillage.com/wp-content/uploads/2025/04/1.png
END:VEVENT
BEGIN:VEVENT
DTSTART;VALUE=DATE:20260120
DTEND;VALUE=DATE:20270101
DTSTAMP:20260419T193559
CREATED:20260120T162906Z
LAST-MODIFIED:20260120T162906Z
UID:4573-1768867200-1798761599@staging.tradersvillage.com
SUMMARY:Money Saving Deals (TVGP SLIDER)
DESCRIPTION:
URL:https://staging.tradersvillage.com/category/events/money-saving-deals-tvgp-slider/
LOCATION:TX
CATEGORIES:TVGP Slider
ATTACH;FMTTYPE=image/png:https://staging.tradersvillage.com/wp-content/uploads/2026/01/TRADERS-trick-or-treat-TRAIL.png
END:VEVENT
BEGIN:VEVENT
DTSTART;VALUE=DATE:20260524
DTEND;VALUE=DATE:20260525
DTSTAMP:20260419T193559
CREATED:20260413T221806Z
LAST-MODIFIED:20260413T221806Z
UID:4746-1779580800-1779667199@staging.tradersvillage.com
SUMMARY:Memorial Day Weekend 🇺🇸🎉 at Traders Village Grand Prairie
DESCRIPTION:Celebrate Memorial Day Weekend at Traders Village Grand Prairie with an afternoon packed full of live music\, energy\, and family fun! 🇺🇸🎉 Join us Sunday\, May 24 from 1 PM – 5 PM for an incredible lineup featuring La Joya Romantica Caminantes\, 360 Band Regios\, and La Gran Señora Laura Elena bringing unforgettable performances to the stage. \nEnjoy great food\, unique vendors\, and a lively atmosphere perfect for spending the holiday with family and friends. \n🎶 Live music & entertainment \n🌮 Food\, shopping & local vendors \n🎡 Fun for the whole family \nFree admission with $6 parking — make your Memorial Day weekend one to remember at Traders Village!
URL:https://staging.tradersvillage.com/category/events/memorial-day-weekend-at-traders-village-grand-prairie/
LOCATION:Traders Village Grand Prairie\, 2602 Mayfield Road\, Grand Prairie\, TX\, 75052\, United States
CATEGORIES:Grand Prairie
ATTACH;FMTTYPE=image/jpeg:https://staging.tradersvillage.com/wp-content/uploads/2026/04/TVGP-Memorial-Event.jpg
END:VEVENT
END:VCALENDAR